BEGIN:VCALENDAR
VERSION:2.0
PRODID:icalendar-ruby
CALSCALE:GREGORIAN
METHOD:PUBLISH
BEGIN:VEVENT
DTSTAMP:20260426T030302Z
UID:692-4919@mybethel.org
DTSTART:20260517T130000Z
DTEND:20260517T140000Z
CLASS:PUBLIC
CREATED:20260416T120229
DESCRIPTION:Traditional worship takes place in our beautiful sanctuary at 9
 :00 AM. \nWe take part in traditional Methodist liturgy and prayers\, the
  organ leads us in singing the great hymns of the churchboth classic and m
 odern\, and twice each month\, the Bethel Choir shares an anthem with the 
 congregation. Our Bethel Bells bless us with an inspirational prelude atl
 east once each month.\nNote: Our BETHEL Nursery &amp\; BETHEL Kids program
 ing is not available during this service at this time. 
LAST-MODIFIED:20260416T120229
LOCATION:
SUMMARY:Traditional Worship Service
URL;VALUE=URI:https://mybethel.org/events/traditional-worship-service--692/
 2026-05-17
END:VEVENT
END:VCALENDAR
