BEGIN:VCALENDAR
VERSION:2.0
PRODID:icalendar-ruby
CALSCALE:GREGORIAN
METHOD:PUBLISH
BEGIN:VEVENT
DTSTAMP:20260426T030704Z
UID:694-4921@mybethel.org
DTSTART:20260517T150000Z
DTEND:20260517T160000Z
CLASS:PUBLIC
CREATED:20260416T120250
DESCRIPTION:Worship is held in our beautiful Sanctuary at 11AM on Sunday mo
 rnings. This service blends modern Korean Christian music with Korean hymn
 s. Visitors are always welcome. Our sanctuary is located in the front of o
 ur church. Park in the front lot closest to Bethel Road when attending thi
 s service. 
LAST-MODIFIED:20260416T120250
LOCATION:
SUMMARY:Korean Worship Service
URL;VALUE=URI:https://mybethel.org/events/korean-worship-service--694/2026-
 05-17
END:VEVENT
END:VCALENDAR
