BEGIN:VCALENDAR
VERSION:2.0
PRODID:icalendar-ruby
CALSCALE:GREGORIAN
METHOD:PUBLISH
BEGIN:VEVENT
DTSTAMP:20260426T030804Z
UID:691-4918@mybethel.org
DTSTART:20260510T150000Z
DTEND:20260510T160000Z
CLASS:PUBLIC
CREATED:20260416T120207
DESCRIPTION:Worship is held in our beautiful Sanctuary at 11AM on Sunday mo
 rnings. This service blends modern Korean Christian music with Korean hymn
 s. Visitors are always welcome. Our sanctuary is located in the front of o
 ur church. Park in the front lot closest to Bethel Road when attending thi
 s service. 
LAST-MODIFIED:20260416T120207
LOCATION:
SUMMARY:Korean Worship Service
URL;VALUE=URI:https://mybethel.org/events/korean-worship-service--691/2026-
 05-10
END:VEVENT
END:VCALENDAR
