BEGIN:VCALENDAR
VERSION:2.0
PRODID:icalendar-ruby
CALSCALE:GREGORIAN
METHOD:PUBLISH
BEGIN:VEVENT
DTSTAMP:20260420T152439Z
UID:686-4913@mybethel.org
DTSTART:20260430T213000Z
DTEND:20260430T223000Z
CLASS:PUBLIC
CREATED:20260416T115252
DESCRIPTION:
LAST-MODIFIED:20260416T115252
LOCATION:1220 Bethel Rd. Columbus\, Ohio 43220
SUMMARY:Free Community Dinner
URL;VALUE=URI:https://mybethel.org/events/free-community-dinner--686/2026-0
 4-30
ATTACH;FILENAME=freecommdinn.jpg;FMTTYPE=image/jpeg:https://dq5pwpg1q8ru0.c
 loudfront.net/2026/04/16/15/52/52/bfd519f3-7ac8-4a30-8ddd-a140681b212f/fre
 ecommdinn.jpg
END:VEVENT
END:VCALENDAR
