BEGIN:VCALENDAR
VERSION:2.0
PRODID:icalendar-ruby
CALSCALE:GREGORIAN
METHOD:PUBLISH
BEGIN:VEVENT
DTSTAMP:20260420T153139Z
UID:688-4915@mybethel.org
DTSTART:20260503T180000Z
DTEND:20260503T233000Z
CLASS:PUBLIC
CREATED:20260416T120008
DESCRIPTION:
LAST-MODIFIED:20260416T120008
LOCATION:1220 Bethel Rd. Columbus\, Ohio 43220
SUMMARY:Community Service Volunteer Day and Potluck
URL;VALUE=URI:https://mybethel.org/events/community-service-volunteer-day-a
 nd-potluck/2026-05-03
END:VEVENT
END:VCALENDAR
